BEGIN:VCALENDAR
VERSION:2.0
PRODID:-//Aurora Symphony Orchestra - ECPv6.15.20//NONSGML v1.0//EN
CALSCALE:GREGORIAN
METHOD:PUBLISH
X-ORIGINAL-URL:https://aurorasymphony.org
X-WR-CALDESC:Events for Aurora Symphony Orchestra
REFRESH-INTERVAL;VALUE=DURATION:PT1H
X-Robots-Tag:noindex
X-PUBLISHED-TTL:PT1H
BEGIN:VTIMEZONE
TZID:America/Denver
BEGIN:DAYLIGHT
TZOFFSETFROM:-0700
TZOFFSETTO:-0600
TZNAME:MDT
DTSTART:20250309T090000
END:DAYLIGHT
BEGIN:STANDARD
TZOFFSETFROM:-0600
TZOFFSETTO:-0700
TZNAME:MST
DTSTART:20251102T080000
END:STANDARD
BEGIN:DAYLIGHT
TZOFFSETFROM:-0700
TZOFFSETTO:-0600
TZNAME:MDT
DTSTART:20260308T090000
END:DAYLIGHT
BEGIN:STANDARD
TZOFFSETFROM:-0600
TZOFFSETTO:-0700
TZNAME:MST
DTSTART:20261101T080000
END:STANDARD
BEGIN:DAYLIGHT
TZOFFSETFROM:-0700
TZOFFSETTO:-0600
TZNAME:MDT
DTSTART:20270314T090000
END:DAYLIGHT
BEGIN:STANDARD
TZOFFSETFROM:-0600
TZOFFSETTO:-0700
TZNAME:MST
DTSTART:20271107T080000
END:STANDARD
END:VTIMEZONE
BEGIN:VEVENT
DTSTART;VALUE=DATE:20260516
DTEND;VALUE=DATE:20260518
DTSTAMP:20260424T045617
CREATED:20250603T151657Z
LAST-MODIFIED:20260423T171331Z
UID:5329-1778889600-1779062399@aurorasymphony.org
SUMMARY:"Bohemian Rhapsody:" 2026 Arts for a Better Tomorrow Concert
DESCRIPTION:2026 Arts for a Better Tomorrow: Bohemian RhapsodyRepertoireFull-orchestra arrangements of: “Don’t Stop Me Now\,” “Bohemian Rhapsody\,” “We Will Rock You\,” and “We are the Champions\,” by Queen and “Seasons of Love” from Rent. \nFlagello – Bravado\nStrauss – Violin Concerto\, performed by Julia McCorvey\nBrahms –  Academic Festival Overture \nGet TicketsFeatured ArtistsJeremy Cuebas\, Conductor \nDates & LocationSaturday\, May 16\, 2026 @ 7:30 PM\nSunday\, May 17\, 2026 @ 4:00 PM\nVenue: Gateway High School Auditorium \nTickets & Pricing$22.13 Adult – General Admission\n$11.63 Senior\, Military\, and First Responder – General Admission\nFree – Students & Children under 18 \nGet Tickets
URL:https://aurorasymphony.org/event/2026-arts-for-a-better-tomorrow/
LOCATION:Gateway High School\, 1300 S Sable Blvd\, Aurora\, 80012\, United States
CATEGORIES:Masterworks Concerts
ATTACH;FMTTYPE=image/jpeg:https://aurorasymphony.org/wp-content/uploads/2025/06/2026AFBT_16x9.jpg
ORGANIZER;CN="Aurora Symphony Orchestra":MAILTO:info@aurorasymphony.org
END:VEVENT
END:VCALENDAR